Workbook

Sheet Riegendetails
B1: GETU TagLinth, 28. März 2026
B8: Riegenanmeldung
B9: Verein/Riege:
B10: Kontaktperson:
B11: Name: | H11: Vorname:
B12: Strasse: | H12: PLZ/Ort:
B13: Telefon P: | H13: Telefon G:
B14: Fax: | H14: Natel:
B15: E-Mail:
B17: Bank: | H17: Bank-Konto:
H18: PC-Konto:
B19: Wichtig: Bankverbindung eures Vereins für die Rückzahlung des Halftgeldes angeben!
B22: Wertungsrichter
B24: Name | C24: Vorname | D24: Adresse | E24: PLZ | F24: Ort | G24: Email | H24: Telefonnummer | I24: Brevet
B35: Anzahl Teilnehmende
B36: Geräteturnen
B37: Knaben | D37: Mädchen
B38: gid=92419870&range=B4 | C38: ='Knaben K1'!I1 -> 0 | D38: gid=429242923&range=B4 | E38: ='Mädchen K1'!I1 -> 0
B39: gid=1266117209&range=B4 | C39: ='Knaben K2'!I1 -> 0 | D39: gid=958790810&range=B4 | E39: ='Mädchen K2'!I1 -> 0
B40: gid=1731508503&range=B4 | C40: ='Knaben K3'!I1 -> 0 | D40: gid=688615798&range=B4 | E40: ='Mädchen K3'!I1 -> 0
B41: gid=426611679&range=B4 | C41: ='Knaben K4'!I1 -> 0 | D41: gid=983718283&range=B4 | E41: ='Mädchen K4'!I1 -> 0
B42: gid=1808233926&range=B4 | C42: ='Knaben K5'!I1 -> 0 | D42: gid=849577530&range=B4 | E42: ='Mädchen K5'!I1 -> 0
B43: gid=1910054138&range=B4 | C43: ='Knaben K6'!I1 -> 0 | D43: gid=1884882178&range=B4 | E43: ='Mädchen K6'!I1 -> 0
B44: gid=1741149921&range=B4 | C44: ='Knaben K7'!I1 -> 0 | D44: gid=1553847305&range=B4 | E44: ='Mädchen K7'!I1 -> 0
B45: gid=940054606&range=B4 | C45: ='K Herren'!I1 -> 0 | D45: gid=393301582&range=B4 | E45: ='K Damen'!I1 -> 0
B46: Total | C46: =SUM(C38:C45) -> 0 | D46: Total | E46: =SUM(E38:E45) -> 0
B49: Total Anmeldungen: | F49: =SUM(C46,E46) -> 0
G52: Anz. | H52: Kosten
B53: Anzahl Teilnehmer à | E53: CHF | F53: 20 | G53: =F49 -> 0 | H53: CHF | I53: =(F49*F53) -> 0 | J53: Mädchen/Knaben
B54: Haftgeld | E54: CHF | F54: 100,00 | H54: CHF | I54: 100
B55: Total | H55: CHF | I55: =(I53+I54) -> 100
B57: Der Betrag muss spätestens bis 2. März 2026 auf unserem Konto JUGI Rapperswil-Jona
B58: IBAN CH25 0078 1019 9883 4200 2, eingehen.
B61: Checkliste: | D61: * | E61: Anmeldeschluss 02.03.2026
D62: * | E62: Bankverbindung des Vereins angegeben?
D63: * | E63: Dieses Anmeldeformular ist gleichzeitig die Rechnung!

Sheet Mädchen K1
A1: K1MA | H1: Anzahl Teilnehmende: | I1: =COUNTA(B4:B49) -> 0
B3: Name | C3: Vorname | D3: Jahrg. | E3: Verein
A4: û
A5: û
A6: û
A7: û
A8: û
A9: û
A10: û
A11: û
A12: û
A13: û
A14: û
A15: û
... A49: û

Sheet Knaben K1
A1: K1KN | H1: Anzahl Teilnehmende: | I1: =COUNTA(B4:B49) -> 0
B3: Name | C3: Vorname | D3: Jahrg. | E3: Verein
A4: û
A5: û
A6: û
A7: û
A8: û
A9: û
A10: û
A11: û
A12: û
A13: û
A14: û
A15: û
... A49: û

Sheet Mädchen K2
A1: K2MA | H1: Anzahl Teilnehmende: | I1: =COUNTA(B4:B49) -> 0
B3: Name | C3: Vorname | D3: Jahrg. | E3: Verein
A4: û
A5: û
A6: û
A7: û
A8: û
A9: û
A10: û
A11: û
A12: û
A13: û
A14: û
A15: û
... A49: û

Sheet Knaben K2
A1: K2KN | H1: Anzahl Teilnehmende: | I1: =COUNTA(B4:B49) -> 0
B3: Name | C3: Vorname | D3: Jahrg. | E3: Verein
A4: û
A5: û
A6: û
A7: û
A8: û
A9: û
A10: û
A11: û
A12: û
A13: û
A14: û
A15: û
... A49: û

Sheet Mädchen K3
A1: K3MA | H1: Anzahl Teilnehmende: | I1: =COUNTA(B4:B49) -> 0
B3: Name | C3: Vorname | D3: Jahrg. | E3: Verein
A4: û
A5: û
A6: û
A7: û
A8: û
A9: û
A10: û
A11: û
A12: û
A13: û
A14: û
A15: û
... A49: û

Sheet Knaben K3
A1: K3KN | H1: Anzahl Teilnehmende: | I1: =COUNTA(B4:B49) -> 0
B3: Name | C3: Vorname | D3: Jahrg. | E3: Verein
A4: û
A5: û
A6: û
A7: û
A8: û
A9: û
A10: û
A11: û
A12: û
A13: û
A14: û
A15: û
... A49: û

Sheet Mädchen K4
A1: K4MA | H1: Anzahl Teilnehmende: | I1: =COUNTA(B4:B49) -> 0
B3: Name | C3: Vorname | D3: Jahrg. | E3: Verein
A4: û
A5: û
A6: û
A7: û
A8: û
A9: û
A10: û
A11: û
A12: û
A13: û
A14: û
A15: û
... A49: û

Sheet Knaben K4
A1: K4KN | H1: Anzahl Teilnehmende: | I1: =COUNTA(B4:B49) -> 0
B3: Name | C3: Vorname | D3: Jahrg. | E3: Verein
A4: û
A5: û
A6: û
A7: û
A8: û
A9: û
A10: û
A11: û
A12: û
A13: û
A14: û
A15: û
... A49: û

Sheet Mädchen K5
A1: K5MA | H1: Anzahl Teilnehmende: | I1: =COUNTA(B4:B49) -> 0
B3: Name | C3: Vorname | D3: Jahrg. | E3: Verein
A4: û
A5: û
A6: û
A7: û
A8: û
A9: û
A10: û
A11: û
A12: û
A13: û
A14: û
A15: û
... A49: û

Sheet Knaben K5
A1: K5KN | H1: Anzahl Teilnehmende: | I1: =COUNTA(B4:B49) -> 0
B3: Name | C3: Vorname | D3: Jahrg. | E3: Verein
A4: û
A5: û
A6: û
A7: û
A8: û
A9: û
A10: û
A11: û
A12: û
A13: û
A14: û
A15: û
... A49: û

Sheet Mädchen K6
A1: K6MA | H1: Anzahl Teilnehmende: | I1: =COUNTA(B4:B49) -> 0
B3: Name | C3: Vorname | D3: Jahrg. | E3: Verein
A4: û
A5: û
A6: û
A7: û
A8: û
A9: û
A10: û
A11: û
A12: û
A13: û
A14: û
A15: û
... A49: û

Sheet Knaben K6
A1: K6KN | H1: Anzahl Teilnehmende: | I1: =COUNTA(B4:B49) -> 0
B3: Name | C3: Vorname | D3: Jahrg. | E3: Verein
A4: û
A5: û
A6: û
A7: û
A8: û
A9: û
A10: û
A11: û
A12: û
A13: û
A14: û
A15: û
... A31: û
A32: û | K32: a
A33: û
A34: û
A35: û
A36: û
A37: û
A38: û
A39: û
A40: û
A41: û
A42: û
A43: û
A44: û
... A49: û

Sheet Mädchen K7
A1: K7MA | H1: Anzahl Teilnehmende: | I1: =COUNTA(B4:B49) -> 0
B3: Name | C3: Vorname | D3: Jahrg. | E3: Verein
A4: û
A5: û
A6: û
A7: û
A8: û
A9: û
A10: û
A11: û
A12: û
A13: û
A14: û
A15: û
... A49: û

Sheet Knaben K7
A1: K7KN | H1: Anzahl Teilnehmende: | I1: =COUNTA(B4:B49) -> 0
B3: Name | C3: Vorname | D3: Jahrg. | E3: Verein
A4: û
A5: û
A6: û
A7: û
A8: û
A9: û
A10: û
A11: û
A12: û
A13: û
A14: û
A15: û
... A49: û

Sheet K Damen
A1: K Damen | H1: Anzahl Teilnehmende: | I1: =COUNTA(B4:B49) -> 0
B3: Name | C3: Vorname | D3: Jahrg. | E3: Verein
A4: û
A5: û
A6: û
A7: û
A8: û
A9: û
A10: û
A11: û
A12: û
A13: û
A14: û
A15: û
... A49: û

Sheet K Herren
A1: K Herren | H1: Anzahl Teilnehmende: | I1: =COUNTA(B4:B49) -> 0
B3: Name | C3: Vorname | D3: Jahrg. | E3: Verein
A4: û
A5: û
A6: û
A7: û
A8: û
A9: û
A10: û
A11: û
A12: û
A13: û
A14: û
A15: û
... A49: û
